BEGIN:VCALENDAR
VERSION:2.0
PRODID:-//Bages Turisme - ECPv6.15.17.1//NONSGML v1.0//EN
CALSCALE:GREGORIAN
METHOD:PUBLISH
X-ORIGINAL-URL:https://www.bagesturisme.cat/es
X-WR-CALDESC:Eventos para Bages Turisme
REFRESH-INTERVAL;VALUE=DURATION:PT1H
X-Robots-Tag:noindex
X-PUBLISHED-TTL:PT1H
BEGIN:VTIMEZONE
TZID:Europe/Paris
BEGIN:DAYLIGHT
TZOFFSETFROM:+0100
TZOFFSETTO:+0200
TZNAME:CEST
DTSTART:20250330T010000
END:DAYLIGHT
BEGIN:STANDARD
TZOFFSETFROM:+0200
TZOFFSETTO:+0100
TZNAME:CET
DTSTART:20251026T010000
END:STANDARD
BEGIN:DAYLIGHT
TZOFFSETFROM:+0100
TZOFFSETTO:+0200
TZNAME:CEST
DTSTART:20260329T010000
END:DAYLIGHT
BEGIN:STANDARD
TZOFFSETFROM:+0200
TZOFFSETTO:+0100
TZNAME:CET
DTSTART:20261025T010000
END:STANDARD
BEGIN:DAYLIGHT
TZOFFSETFROM:+0100
TZOFFSETTO:+0200
TZNAME:CEST
DTSTART:20270328T010000
END:DAYLIGHT
BEGIN:STANDARD
TZOFFSETFROM:+0200
TZOFFSETTO:+0100
TZNAME:CET
DTSTART:20271031T010000
END:STANDARD
END:VTIMEZONE
BEGIN:VEVENT
DTSTART;TZID=Europe/Paris:20260307T170000
DTEND;TZID=Europe/Paris:20260307T183000
DTSTAMP:20260420T085323
CREATED:20260305T085119Z
LAST-MODIFIED:20260305T085119Z
UID:17610-1772902800-1772908200@www.bagesturisme.cat
SUMMARY:[:ca]Visita teatralitzada al Castell de Balsareny[:]
DESCRIPTION:Disculpa\, pero esta entrada está disponible sólo en Català.
URL:https://www.bagesturisme.cat/es/agenda/visita-teatralitzada-al-castell-de-balsareny/
LOCATION:Castell de Balsareny\, Castell de Balsareny\, Castell de\, Balsareny\, Barcelona\, 08660\, Spain
CATEGORIES:Visites
ATTACH;FMTTYPE=image/jpeg:https://www.bagesturisme.cat/wp-content/uploads/2023/03/nova-teatralitzada-castell.jpg
END:VEVENT
BEGIN:VEVENT
DTSTART;TZID=Europe/Paris:20260308T110000
DTEND;TZID=Europe/Paris:20260308T123000
DTSTAMP:20260420T085323
CREATED:20260305T091350Z
LAST-MODIFIED:20260305T091350Z
UID:17623-1772967600-1772973000@www.bagesturisme.cat
SUMMARY:[:ca]Visita guiada "On són les dones al museu?"[:]
DESCRIPTION:Disculpa\, pero esta entrada está disponible sólo en Català.
URL:https://www.bagesturisme.cat/es/agenda/visita-guiada-on-son-les-dones-al-museu/
LOCATION:Museu del Barroc de Catalunya\, Museu del Barroc de Catalunya\, Plaça de Sant Ignasi\, 14\, Manresa\, Barcelona\, 08241\, Spain
CATEGORIES:Visites
ATTACH;FMTTYPE=image/jpeg:https://www.bagesturisme.cat/wp-content/uploads/2024/05/Museu-Barroc-Escenaris_BX-scaled.jpg
END:VEVENT
BEGIN:VEVENT
DTSTART;TZID=Europe/Paris:20260311T110000
DTEND;TZID=Europe/Paris:20260314T130000
DTSTAMP:20260420T085323
CREATED:20260309T122709Z
LAST-MODIFIED:20260309T122709Z
UID:17643-1773226800-1773493200@www.bagesturisme.cat
SUMMARY:[:ca]Manresa Cor de Catalunya[:]
DESCRIPTION:Disculpa\, pero esta entrada está disponible sólo en Català.
URL:https://www.bagesturisme.cat/es/agenda/manresa-cor-de-catalunya/
LOCATION:Oficina de Turisme de Manresa\, Oficina de Turisme de Manresa\, Plaça Major\, 20\, Manresa\, Barcelona\, 08241\, Spain
CATEGORIES:Visites
ATTACH;FMTTYPE=image/jpeg:https://www.bagesturisme.cat/wp-content/uploads/2026/03/inici_cor.jpg
ORGANIZER;CN="Manresa Turisme":MAILTO:turisme@manresaturisme.cat
END:VEVENT
BEGIN:VEVENT
DTSTART;TZID=Europe/Paris:20260312T100000
DTEND;TZID=Europe/Paris:20260318T180000
DTSTAMP:20260420T085323
CREATED:20260309T121726Z
LAST-MODIFIED:20260309T123022Z
UID:17639-1773309600-1773856800@www.bagesturisme.cat
SUMMARY:[:ca]Exposició: LA FOTOGRAFIA AL MUSEU. COMPROMÍS PER A UNA COL·LECCIÓ[:]
DESCRIPTION:Disculpa\, pero esta entrada está disponible sólo en Català.
URL:https://www.bagesturisme.cat/es/agenda/exposicio-la-fotografia-al-museu-compromis-per-a-una-col%c2%b7leccio/
LOCATION:Museu del Barroc de Catalunya\, Museu del Barroc de Catalunya\, Plaça de Sant Ignasi\, 14\, Manresa\, Barcelona\, 08241\, Spain
CATEGORIES:Visites
ATTACH;FMTTYPE=image/jpeg:https://www.bagesturisme.cat/wp-content/uploads/2026/03/Baner_v1-1-1024x356-1-e1773059349217.jpg
END:VEVENT
BEGIN:VEVENT
DTSTART;TZID=Europe/Paris:20260312T200000
DTEND;TZID=Europe/Paris:20260312T220000
DTSTAMP:20260420T085323
CREATED:20260305T075745Z
LAST-MODIFIED:20260305T075745Z
UID:17600-1773345600-1773352800@www.bagesturisme.cat
SUMMARY:[:ca]Sopar de la col Manresana[:]
DESCRIPTION:Disculpa\, pero esta entrada está disponible sólo en Català.
URL:https://www.bagesturisme.cat/es/agenda/sopar-de-la-col-manresana/
LOCATION:Cal Llovet – Santpedor\, Carrer Roger de Flor\, Santpedor\, Barcelona\, 08251\, Spain
ATTACH;FMTTYPE=image/jpeg:https://www.bagesturisme.cat/wp-content/uploads/2026/03/CartellA3-temporadesgastronomiques-hivern26_Digital.jpg
ORGANIZER;CN="Bages Impuls":MAILTO:hola@bagesimpuls.org
END:VEVENT
BEGIN:VEVENT
DTSTART;VALUE=DATE:20260314
DTEND;VALUE=DATE:20260316
DTSTAMP:20260420T085323
CREATED:20260309T123306Z
LAST-MODIFIED:20260309T123306Z
UID:17648-1773446400-1773619199@www.bagesturisme.cat
SUMMARY:[:ca]Visita guiada al Museu del Barroc de Catalunya[:]
DESCRIPTION:Disculpa\, pero esta entrada está disponible sólo en Català.
URL:https://www.bagesturisme.cat/es/agenda/visita-guiada-al-museu-del-barroc-de-catalunya/
LOCATION:Museu del Barroc de Catalunya\, Museu del Barroc de Catalunya\, Plaça de Sant Ignasi\, 14\, Manresa\, Barcelona\, 08241\, Spain
ATTACH;FMTTYPE=image/jpeg:https://www.bagesturisme.cat/wp-content/uploads/2026/03/BAIXA_MUSEU-DEL-BARROC_TXUS-GARCIA_03_004_IMG27183-1-1024x682-1.jpg
END:VEVENT
BEGIN:VEVENT
DTSTART;VALUE=DATE:20260314
DTEND;VALUE=DATE:20260407
DTSTAMP:20260420T085323
CREATED:20260305T085724Z
LAST-MODIFIED:20260305T085913Z
UID:17614-1773446400-1775519999@www.bagesturisme.cat
SUMMARY:[:ca]Operació Pasqua[:]
DESCRIPTION:Disculpa\, pero esta entrada está disponible sólo en Català.
URL:https://www.bagesturisme.cat/es/agenda/operacio-pasqua/
LOCATION:Món Sant Benet\, Món Sant Benet\, de Bages\, s/n\, Sant Fruitós de Bages\, Barcelona\, 08272\, Spain
CATEGORIES:Visites
ATTACH;FMTTYPE=image/jpeg:https://www.bagesturisme.cat/wp-content/uploads/2025/03/operacio-pasqua.jpg
END:VEVENT
BEGIN:VEVENT
DTSTART;TZID=Europe/Paris:20260314T083000
DTEND;TZID=Europe/Paris:20260314T110000
DTSTAMP:20260420T085323
CREATED:20260305T091908Z
LAST-MODIFIED:20260305T091908Z
UID:17627-1773477000-1773486000@www.bagesturisme.cat
SUMMARY:[:ca]Caminada de geologia i romànic[:]
DESCRIPTION:Disculpa\, pero esta entrada está disponible sólo en Català.
URL:https://www.bagesturisme.cat/es/agenda/caminada-de-geologia-i-romanic/
LOCATION:La Farinera (Sant Vicenç de Castellet)\, 08295 Sant Vicenç de Castellet\, Barcelona
CATEGORIES:Visites
ATTACH;FMTTYPE=image/jpeg:https://www.bagesturisme.cat/wp-content/uploads/2026/03/Caminada_Sant_Vicenc_de_Castellet_14-03-2026.jpg
END:VEVENT
BEGIN:VEVENT
DTSTART;TZID=Europe/Paris:20260314T100000
DTEND;TZID=Europe/Paris:20260315T180000
DTSTAMP:20260420T085323
CREATED:20260309T123745Z
LAST-MODIFIED:20260309T123745Z
UID:17651-1773482400-1773597600@www.bagesturisme.cat
SUMMARY:[:ca]La festa barroca[:]
DESCRIPTION:Disculpa\, pero esta entrada está disponible sólo en Català.
URL:https://www.bagesturisme.cat/es/agenda/la-festa-barroca/
LOCATION:Museu del Barroc de Catalunya\, Museu del Barroc de Catalunya\, Plaça de Sant Ignasi\, 14\, Manresa\, Barcelona\, 08241\, Spain
CATEGORIES:Visites
ATTACH;FMTTYPE=image/jpeg:https://www.bagesturisme.cat/wp-content/uploads/2026/03/web-en-familia-3-01-1024x727-1.jpg
END:VEVENT
BEGIN:VEVENT
DTSTART;TZID=Europe/Paris:20260315T080000
DTEND;TZID=Europe/Paris:20260315T130000
DTSTAMP:20260420T085323
CREATED:20260305T084531Z
LAST-MODIFIED:20260305T084619Z
UID:17606-1773561600-1773579600@www.bagesturisme.cat
SUMMARY:[:ca]La Transéquia[:]
DESCRIPTION:Disculpa\, pero esta entrada está disponible sólo en Català.
URL:https://www.bagesturisme.cat/es/agenda/la-transequia/
LOCATION:Bages
CATEGORIES:Esports
ATTACH;FMTTYPE=image/jpeg:https://www.bagesturisme.cat/wp-content/uploads/2023/02/ORP2585-copia.jpg
END:VEVENT
BEGIN:VEVENT
DTSTART;VALUE=DATE:20260321
DTEND;VALUE=DATE:20260323
DTSTAMP:20260420T085323
CREATED:20260309T124549Z
LAST-MODIFIED:20260309T124549Z
UID:17654-1774051200-1774223999@www.bagesturisme.cat
SUMMARY:[:ca]Jornades gastronòmiques del Camí Ignasià[:]
DESCRIPTION:Disculpa\, pero esta entrada está disponible sólo en Català.
URL:https://www.bagesturisme.cat/es/agenda/jornades-gastronomiques-del-cami-ignasia/
LOCATION:Museu del Barroc de Catalunya\, Museu del Barroc de Catalunya\, Plaça de Sant Ignasi\, 14\, Manresa\, Barcelona\, 08241\, Spain
CATEGORIES:Ferias y Fiestas
ATTACH;FMTTYPE=image/png:https://www.bagesturisme.cat/wp-content/uploads/2026/03/Cartell-Jornades-Gastronomiques-2026_CAT-1.png
END:VEVENT
BEGIN:VEVENT
DTSTART;TZID=Europe/Paris:20260321T100000
DTEND;TZID=Europe/Paris:20260322T130000
DTSTAMP:20260420T085323
CREATED:20260309T125230Z
LAST-MODIFIED:20260309T125230Z
UID:17657-1774087200-1774184400@www.bagesturisme.cat
SUMMARY:[:ca]Visita guiada a l'interior de l'Anònima[:]
DESCRIPTION:Disculpa\, pero esta entrada está disponible sólo en Català.
URL:https://www.bagesturisme.cat/es/agenda/visita-guiada-a-linterior-de-lanonima/
LOCATION:L’Anònima Manresa\, Carrer de Llussà\, 9\, Manresa\, Barcelona\, 08241\, Spain
CATEGORIES:Visites
ATTACH;FMTTYPE=image/jpeg:https://www.bagesturisme.cat/wp-content/uploads/2026/03/anonima_agp1982_8396-previa_2.jpg
END:VEVENT
END:VCALENDAR