BEGIN:VCALENDAR
VERSION:2.0
PRODID:-//Bages Turisme - ECPv6.15.17.1//NONSGML v1.0//EN
CALSCALE:GREGORIAN
METHOD:PUBLISH
X-WR-CALNAME:Bages Turisme
X-ORIGINAL-URL:https://www.bagesturisme.cat/es
X-WR-CALDESC:Eventos para Bages Turisme
REFRESH-INTERVAL;VALUE=DURATION:PT1H
X-Robots-Tag:noindex
X-PUBLISHED-TTL:PT1H
BEGIN:VTIMEZONE
TZID:Europe/Paris
BEGIN:DAYLIGHT
TZOFFSETFROM:+0100
TZOFFSETTO:+0200
TZNAME:CEST
DTSTART:20250330T010000
END:DAYLIGHT
BEGIN:STANDARD
TZOFFSETFROM:+0200
TZOFFSETTO:+0100
TZNAME:CET
DTSTART:20251026T010000
END:STANDARD
BEGIN:DAYLIGHT
TZOFFSETFROM:+0100
TZOFFSETTO:+0200
TZNAME:CEST
DTSTART:20260329T010000
END:DAYLIGHT
BEGIN:STANDARD
TZOFFSETFROM:+0200
TZOFFSETTO:+0100
TZNAME:CET
DTSTART:20261025T010000
END:STANDARD
BEGIN:DAYLIGHT
TZOFFSETFROM:+0100
TZOFFSETTO:+0200
TZNAME:CEST
DTSTART:20270328T010000
END:DAYLIGHT
BEGIN:STANDARD
TZOFFSETFROM:+0200
TZOFFSETTO:+0100
TZNAME:CET
DTSTART:20271031T010000
END:STANDARD
END:VTIMEZONE
BEGIN:VEVENT
DTSTART;TZID=Europe/Paris:20260503T180000
DTEND;TZID=Europe/Paris:20260503T193000
DTSTAMP:20260422T103020
CREATED:20260413T074543Z
LAST-MODIFIED:20260413T074543Z
UID:17701-1777831200-1777836600@www.bagesturisme.cat
SUMMARY:[:ca]Gemma Humet - Cicle Convent[:]
DESCRIPTION:Disculpa\, pero esta entrada está disponible sólo en Català.
URL:https://www.bagesturisme.cat/es/agenda/gemma-humet-cicle-convent/
LOCATION:Auditori Convent de Sant Francesc\, Carrer Convent\, s/n\, Santpedor\, Barcelona\, 08251\, Spain
CATEGORIES:Música
ATTACH;FMTTYPE=image/jpeg:https://www.bagesturisme.cat/wp-content/uploads/2026/04/GemmaHumet_Cicle_Convent_2026_-___1_-1.jpg
END:VEVENT
BEGIN:VEVENT
DTSTART;TZID=Europe/Paris:20260510T180000
DTEND;TZID=Europe/Paris:20260510T200000
DTSTAMP:20260422T103020
CREATED:20260413T071004Z
LAST-MODIFIED:20260413T071004Z
UID:17683-1778436000-1778443200@www.bagesturisme.cat
SUMMARY:[:ca]SONOS\, cicle de músiques al romànic[:]
DESCRIPTION:Disculpa\, pero esta entrada está disponible sólo en Català.
URL:https://www.bagesturisme.cat/es/agenda/sonos-cicle-de-musiques-al-romanic/
LOCATION:Sant Cugat del Racó
CATEGORIES:Música
ATTACH;FMTTYPE=image/jpeg:https://www.bagesturisme.cat/wp-content/uploads/2026/04/Cartell-819x1024-1.jpg
END:VEVENT
END:VCALENDAR