BEGIN:VCALENDAR
VERSION:2.0
PRODID:-//Bages Turisme - ECPv6.15.17.1//NONSGML v1.0//EN
CALSCALE:GREGORIAN
METHOD:PUBLISH
X-WR-CALNAME:Bages Turisme
X-ORIGINAL-URL:https://www.bagesturisme.cat/es
X-WR-CALDESC:Eventos para Bages Turisme
REFRESH-INTERVAL;VALUE=DURATION:PT1H
X-Robots-Tag:noindex
X-PUBLISHED-TTL:PT1H
BEGIN:VTIMEZONE
TZID:Europe/Paris
BEGIN:DAYLIGHT
TZOFFSETFROM:+0100
TZOFFSETTO:+0200
TZNAME:CEST
DTSTART:20250330T010000
END:DAYLIGHT
BEGIN:STANDARD
TZOFFSETFROM:+0200
TZOFFSETTO:+0100
TZNAME:CET
DTSTART:20251026T010000
END:STANDARD
BEGIN:DAYLIGHT
TZOFFSETFROM:+0100
TZOFFSETTO:+0200
TZNAME:CEST
DTSTART:20260329T010000
END:DAYLIGHT
BEGIN:STANDARD
TZOFFSETFROM:+0200
TZOFFSETTO:+0100
TZNAME:CET
DTSTART:20261025T010000
END:STANDARD
BEGIN:DAYLIGHT
TZOFFSETFROM:+0100
TZOFFSETTO:+0200
TZNAME:CEST
DTSTART:20270328T010000
END:DAYLIGHT
BEGIN:STANDARD
TZOFFSETFROM:+0200
TZOFFSETTO:+0100
TZNAME:CET
DTSTART:20271031T010000
END:STANDARD
END:VTIMEZONE
BEGIN:VEVENT
DTSTART;TZID=Europe/Paris:20260423T090000
DTEND;TZID=Europe/Paris:20260423T190000
DTSTAMP:20260420T101805
CREATED:20260413T074806Z
LAST-MODIFIED:20260413T074806Z
UID:17705-1776934800-1776970800@www.bagesturisme.cat
SUMMARY:[:ca]Fira de Sant Jordi[:]
DESCRIPTION:Disculpa\, pero esta entrada está disponible sólo en Català.
URL:https://www.bagesturisme.cat/es/agenda/fira-de-sant-jordi/
LOCATION:Plaça Barcelona\, El Borràs\, Castellbell i el Vilar\, Barcelona\, 08296\, Spain
CATEGORIES:Ferias y Fiestas
ATTACH;FMTTYPE=image/jpeg:https://www.bagesturisme.cat/wp-content/uploads/2026/04/Sant_Jordi_2026-1.jpg
END:VEVENT
BEGIN:VEVENT
DTSTART;TZID=Europe/Paris:20260426T100000
DTEND;TZID=Europe/Paris:20260426T140000
DTSTAMP:20260420T101805
CREATED:20260413T071709Z
LAST-MODIFIED:20260413T071709Z
UID:17689-1777197600-1777212000@www.bagesturisme.cat
SUMMARY:[:ca]Fira de Sabors i Comerç[:]
DESCRIPTION:Disculpa\, pero esta entrada está disponible sólo en Català.
URL:https://www.bagesturisme.cat/es/agenda/fira-de-sabors-i-comerc/
LOCATION:Carrer Vilaseca\, Sant Joan de Vilatorrada\, Sant Joan de Vilatorrada\, Barcelona\, 08250
CATEGORIES:Ferias y Fiestas
END:VEVENT
BEGIN:VEVENT
DTSTART;VALUE=DATE:20260501
DTEND;VALUE=DATE:20260504
DTSTAMP:20260420T101805
CREATED:20260413T070458Z
LAST-MODIFIED:20260413T070458Z
UID:17678-1777593600-1777852799@www.bagesturisme.cat
SUMMARY:[:ca]Santpedor en Flor[:]
DESCRIPTION:Disculpa\, pero esta entrada está disponible sólo en Català.
URL:https://www.bagesturisme.cat/es/agenda/santpedor-en-flor/
LOCATION:Santpedor\, U d'Octubre\, Plaça Gran\, 4\, Santpedor\, Barcelona\, 08251\, Spain
CATEGORIES:Ferias y Fiestas
ATTACH;FMTTYPE=image/jpeg:https://www.bagesturisme.cat/wp-content/uploads/2026/04/Samtpedor_en_Flor__Dissabte-39-1.jpg
END:VEVENT
BEGIN:VEVENT
DTSTART;TZID=Europe/Paris:20260503T110000
DTEND;TZID=Europe/Paris:20260503T130000
DTSTAMP:20260420T101805
CREATED:20260413T074225Z
LAST-MODIFIED:20260413T074225Z
UID:17696-1777806000-1777813200@www.bagesturisme.cat
SUMMARY:[:ca]Festa del Panellet[:]
DESCRIPTION:Disculpa\, pero esta entrada está disponible sólo en Català.
URL:https://www.bagesturisme.cat/es/agenda/festa-del-panellet/
LOCATION:Ermita de Sant Vicenç de Castellbell
CATEGORIES:Ferias y Fiestas
ATTACH;FMTTYPE=image/jpeg:https://www.bagesturisme.cat/wp-content/uploads/2026/04/Festa_Panellet_2026-1.jpeg
END:VEVENT
END:VCALENDAR