BEGIN:VCALENDAR
VERSION:2.0
PRODID:-//Bages Turisme - ECPv6.15.17.1//NONSGML v1.0//EN
CALSCALE:GREGORIAN
METHOD:PUBLISH
X-ORIGINAL-URL:https://www.bagesturisme.cat
X-WR-CALDESC:Esdeveniments per Bages Turisme
REFRESH-INTERVAL;VALUE=DURATION:PT1H
X-Robots-Tag:noindex
X-PUBLISHED-TTL:PT1H
BEGIN:VTIMEZONE
TZID:Europe/Paris
BEGIN:DAYLIGHT
TZOFFSETFROM:+0100
TZOFFSETTO:+0200
TZNAME:CEST
DTSTART:20250330T010000
END:DAYLIGHT
BEGIN:STANDARD
TZOFFSETFROM:+0200
TZOFFSETTO:+0100
TZNAME:CET
DTSTART:20251026T010000
END:STANDARD
BEGIN:DAYLIGHT
TZOFFSETFROM:+0100
TZOFFSETTO:+0200
TZNAME:CEST
DTSTART:20260329T010000
END:DAYLIGHT
BEGIN:STANDARD
TZOFFSETFROM:+0200
TZOFFSETTO:+0100
TZNAME:CET
DTSTART:20261025T010000
END:STANDARD
BEGIN:DAYLIGHT
TZOFFSETFROM:+0100
TZOFFSETTO:+0200
TZNAME:CEST
DTSTART:20270328T010000
END:DAYLIGHT
BEGIN:STANDARD
TZOFFSETFROM:+0200
TZOFFSETTO:+0100
TZNAME:CET
DTSTART:20271031T010000
END:STANDARD
END:VTIMEZONE
BEGIN:VEVENT
DTSTART;VALUE=DATE:20260314
DTEND;VALUE=DATE:20260407
DTSTAMP:20260422T144346
CREATED:20260305T085724Z
LAST-MODIFIED:20260305T085913Z
UID:17614-1773446400-1775519999@www.bagesturisme.cat
SUMMARY:[:ca]Operació Pasqua[:]
DESCRIPTION:Viu la Pasqua a Món Sant Benet: busquem ous de colors i cuinem una deliciosa mona. \nPodràs celebrar l’arribada de la primavera i buscar en família els ous de pasqua de colors amagats als Jardins de la Casa de l’Amo. No serà fàcil i necessitarem superar una divertida gimcana per tal de guardar-los. Quan tinguem l’ouera completa podrem endinsar-nos a la cuina de la Fundació Alícia per elaborar una deliciosa mona de pasqua.
URL:https://www.bagesturisme.cat/agenda/operacio-pasqua/
LOCATION:Món Sant Benet\, Món Sant Benet\, de Bages\, s/n\, Sant Fruitós de Bages\, Barcelona\, 08272\, Spain
CATEGORIES:Visites
ATTACH;FMTTYPE=image/jpeg:https://www.bagesturisme.cat/wp-content/uploads/2025/03/operacio-pasqua.jpg
END:VEVENT
BEGIN:VEVENT
DTSTART;TZID=Europe/Paris:20260321T100000
DTEND;TZID=Europe/Paris:20260322T130000
DTSTAMP:20260422T144346
CREATED:20260309T125230Z
LAST-MODIFIED:20260309T125230Z
UID:17657-1774087200-1774184400@www.bagesturisme.cat
SUMMARY:[:ca]Visita guiada a l'interior de l'Anònima[:]
DESCRIPTION:La doble jornada de portes obertes permetrà a la ciutadania descobrir el resultat de la primera fase de la rehabilitació que ha transformat l’edifici per dins conservant la seva essència modernista. \nVisita guiada a l’interior de l’Anònima. \nÉs imprescindible reservar plaça\, a partir del 9 de març\, a www.manresaturisme.cat o presencialment a l’Oficina de Turisme de Manresa (plaça Major\, 20) de diumenge a dijous de 10 a 15 h\, i divendres i dissabte de 10 a 15 h i de 17 a 19 h. \nLes visites són gratuïtes. \nInici de la visita: carrer de Llussà\, 9. \nDurada: 1 hora aprox. \nS’aconsella portar calçat còmode. \nORGANITZA: Ajuntament de Manresa / COL·LABOREN: Centre d’Estudis del Bages i MATMUSA
URL:https://www.bagesturisme.cat/agenda/visita-guiada-a-linterior-de-lanonima/
LOCATION:L’Anònima Manresa\, Carrer de Llussà\, 9\, Manresa\, Barcelona\, 08241\, Spain
CATEGORIES:Visites
ATTACH;FMTTYPE=image/jpeg:https://www.bagesturisme.cat/wp-content/uploads/2026/03/anonima_agp1982_8396-previa_2.jpg
END:VEVENT
END:VCALENDAR