BEGIN:VCALENDAR
VERSION:2.0
PRODID:-//Bages Turisme - ECPv6.15.17.1//NONSGML v1.0//EN
CALSCALE:GREGORIAN
METHOD:PUBLISH
X-WR-CALNAME:Bages Turisme
X-ORIGINAL-URL:https://www.bagesturisme.cat
X-WR-CALDESC:Esdeveniments per Bages Turisme
REFRESH-INTERVAL;VALUE=DURATION:PT1H
X-Robots-Tag:noindex
X-PUBLISHED-TTL:PT1H
BEGIN:VTIMEZONE
TZID:Europe/Paris
BEGIN:DAYLIGHT
TZOFFSETFROM:+0100
TZOFFSETTO:+0200
TZNAME:CEST
DTSTART:20250330T010000
END:DAYLIGHT
BEGIN:STANDARD
TZOFFSETFROM:+0200
TZOFFSETTO:+0100
TZNAME:CET
DTSTART:20251026T010000
END:STANDARD
BEGIN:DAYLIGHT
TZOFFSETFROM:+0100
TZOFFSETTO:+0200
TZNAME:CEST
DTSTART:20260329T010000
END:DAYLIGHT
BEGIN:STANDARD
TZOFFSETFROM:+0200
TZOFFSETTO:+0100
TZNAME:CET
DTSTART:20261025T010000
END:STANDARD
BEGIN:DAYLIGHT
TZOFFSETFROM:+0100
TZOFFSETTO:+0200
TZNAME:CEST
DTSTART:20270328T010000
END:DAYLIGHT
BEGIN:STANDARD
TZOFFSETFROM:+0200
TZOFFSETTO:+0100
TZNAME:CET
DTSTART:20271031T010000
END:STANDARD
END:VTIMEZONE
BEGIN:VEVENT
DTSTART;TZID=Europe/Paris:20260315T080000
DTEND;TZID=Europe/Paris:20260315T130000
DTSTAMP:20260422T115810
CREATED:20260305T084531Z
LAST-MODIFIED:20260305T084619Z
UID:17606-1773561600-1773579600@www.bagesturisme.cat
SUMMARY:[:ca]La Transéquia[:]
DESCRIPTION:La Transéquia és un dels esdeveniments esportius de referència del Bages per la seva bellesa natural\, història\, accessibilitat i solidaritat. Ressegueix a peu\, corrent\, amb BTT o amb handbike el canal medieval de la Séquia\, que construïren els manresans al segle XIV en un moment de forta sequera per a portar l’aigua del riu Llobregat des de Balsareny fins a Manresa i descobreix una de les principals obres d’enginyeria hidràulica de l’època medieval.
URL:https://www.bagesturisme.cat/agenda/la-transequia/
LOCATION:Bages
CATEGORIES:Esports
ATTACH;FMTTYPE=image/jpeg:https://www.bagesturisme.cat/wp-content/uploads/2023/02/ORP2585-copia.jpg
END:VEVENT
END:VCALENDAR