BEGIN:VCALENDAR
VERSION:2.0
PRODID:-//Bages Turisme - ECPv6.15.17.1//NONSGML v1.0//EN
CALSCALE:GREGORIAN
METHOD:PUBLISH
X-ORIGINAL-URL:https://www.bagesturisme.cat/fr
X-WR-CALDESC:Évènements pour Bages Turisme
REFRESH-INTERVAL;VALUE=DURATION:PT1H
X-Robots-Tag:noindex
X-PUBLISHED-TTL:PT1H
BEGIN:VTIMEZONE
TZID:Europe/Paris
BEGIN:DAYLIGHT
TZOFFSETFROM:+0100
TZOFFSETTO:+0200
TZNAME:CEST
DTSTART:20250330T010000
END:DAYLIGHT
BEGIN:STANDARD
TZOFFSETFROM:+0200
TZOFFSETTO:+0100
TZNAME:CET
DTSTART:20251026T010000
END:STANDARD
BEGIN:DAYLIGHT
TZOFFSETFROM:+0100
TZOFFSETTO:+0200
TZNAME:CEST
DTSTART:20260329T010000
END:DAYLIGHT
BEGIN:STANDARD
TZOFFSETFROM:+0200
TZOFFSETTO:+0100
TZNAME:CET
DTSTART:20261025T010000
END:STANDARD
BEGIN:DAYLIGHT
TZOFFSETFROM:+0100
TZOFFSETTO:+0200
TZNAME:CEST
DTSTART:20270328T010000
END:DAYLIGHT
BEGIN:STANDARD
TZOFFSETFROM:+0200
TZOFFSETTO:+0100
TZNAME:CET
DTSTART:20271031T010000
END:STANDARD
END:VTIMEZONE
BEGIN:VEVENT
DTSTART;TZID=Europe/Paris:20260812T170000
DTEND;TZID=Europe/Paris:20260812T230000
DTSTAMP:20260422T142648
CREATED:20260413T090440Z
LAST-MODIFIED:20260413T090440Z
UID:17736-1786554000-1786575600@www.bagesturisme.cat
SUMMARY:[:ca]Eclipsi solar[:]
DESCRIPTION:Désolé\, cet article est seulement disponible en Català.
URL:https://www.bagesturisme.cat/fr/agenda/eclipsi-solar/
LOCATION:Observatori Astronòmic de Castelltallat\, Carretera de l'Observatori\, s/n\, Sant Mateu de Bages\, Barcelona\, 08263\, Spain
CATEGORIES:Visites
ATTACH;FMTTYPE=image/jpeg:https://www.bagesturisme.cat/wp-content/uploads/2026/04/12AGO-Eclipsi-1080-x-1080-2.jpg
END:VEVENT
END:VCALENDAR