BEGIN:VCALENDAR
VERSION:2.0
PRODID:-//Bages Turisme - ECPv6.15.17.1//NONSGML v1.0//EN
CALSCALE:GREGORIAN
METHOD:PUBLISH
X-WR-CALNAME:Bages Turisme
X-ORIGINAL-URL:https://www.bagesturisme.cat
X-WR-CALDESC:Esdeveniments per Bages Turisme
REFRESH-INTERVAL;VALUE=DURATION:PT1H
X-Robots-Tag:noindex
X-PUBLISHED-TTL:PT1H
BEGIN:VTIMEZONE
TZID:Europe/Paris
BEGIN:DAYLIGHT
TZOFFSETFROM:+0100
TZOFFSETTO:+0200
TZNAME:CEST
DTSTART:20250330T010000
END:DAYLIGHT
BEGIN:STANDARD
TZOFFSETFROM:+0200
TZOFFSETTO:+0100
TZNAME:CET
DTSTART:20251026T010000
END:STANDARD
BEGIN:DAYLIGHT
TZOFFSETFROM:+0100
TZOFFSETTO:+0200
TZNAME:CEST
DTSTART:20260329T010000
END:DAYLIGHT
BEGIN:STANDARD
TZOFFSETFROM:+0200
TZOFFSETTO:+0100
TZNAME:CET
DTSTART:20261025T010000
END:STANDARD
BEGIN:DAYLIGHT
TZOFFSETFROM:+0100
TZOFFSETTO:+0200
TZNAME:CEST
DTSTART:20270328T010000
END:DAYLIGHT
BEGIN:STANDARD
TZOFFSETFROM:+0200
TZOFFSETTO:+0100
TZNAME:CET
DTSTART:20271031T010000
END:STANDARD
END:VTIMEZONE
BEGIN:VEVENT
DTSTART;TZID=Europe/Paris:20260424T210000
DTEND;TZID=Europe/Paris:20260425T233000
DTSTAMP:20260420T071910
CREATED:20260413T085032Z
LAST-MODIFIED:20260413T085032Z
UID:17731-1777064400-1777159800@www.bagesturisme.cat
SUMMARY:[:ca]La nit de la lluna[:]
DESCRIPTION:Una activitat dedicada exclusivament a la Lluna\, per observar-la de ben a prop… en 3D!\nA l’Observatori Astronòmic de Castelltallat us oferim La Nit de la Lluna\, una activitat especial dedicada al nostre satèl·lit natural. Durant la sessió podreu observar la Lluna amb els nostres potents telescopis i\, gràcies a un capçal binocular\, la podreu contemplar amb els dos ulls i percebre-la en tres dimensions\, apreciant amb gran detall els seus cràters\, muntanyes i planícies. \nDates i horaris\n24 i 25 d’abril\n4 sessions per dia · 25 assistents per torn\n21:10 · 21:55 · 22:40 · 23:25
URL:https://www.bagesturisme.cat/agenda/la-nit-de-la-lluna/
LOCATION:Observatori Astronòmic de Castelltallat\, Carretera de l'Observatori\, s/n\, Sant Mateu de Bages\, Barcelona\, 08263\, Spain
CATEGORIES:Visites
ATTACH;FMTTYPE=image/jpeg:https://www.bagesturisme.cat/wp-content/uploads/2026/04/Cartell_La-Nit-de-la-Lluna-2025_1080-x-1080-1.jpg
END:VEVENT
END:VCALENDAR