BEGIN:VCALENDAR
VERSION:2.0
PRODID:-//Bages Turisme - ECPv6.15.17.1//NONSGML v1.0//EN
CALSCALE:GREGORIAN
METHOD:PUBLISH
X-WR-CALNAME:Bages Turisme
X-ORIGINAL-URL:https://www.bagesturisme.cat
X-WR-CALDESC:Esdeveniments per Bages Turisme
REFRESH-INTERVAL;VALUE=DURATION:PT1H
X-Robots-Tag:noindex
X-PUBLISHED-TTL:PT1H
BEGIN:VTIMEZONE
TZID:Europe/Paris
BEGIN:DAYLIGHT
TZOFFSETFROM:+0100
TZOFFSETTO:+0200
TZNAME:CEST
DTSTART:20250330T010000
END:DAYLIGHT
BEGIN:STANDARD
TZOFFSETFROM:+0200
TZOFFSETTO:+0100
TZNAME:CET
DTSTART:20251026T010000
END:STANDARD
BEGIN:DAYLIGHT
TZOFFSETFROM:+0100
TZOFFSETTO:+0200
TZNAME:CEST
DTSTART:20260329T010000
END:DAYLIGHT
BEGIN:STANDARD
TZOFFSETFROM:+0200
TZOFFSETTO:+0100
TZNAME:CET
DTSTART:20261025T010000
END:STANDARD
BEGIN:DAYLIGHT
TZOFFSETFROM:+0100
TZOFFSETTO:+0200
TZNAME:CEST
DTSTART:20270328T010000
END:DAYLIGHT
BEGIN:STANDARD
TZOFFSETFROM:+0200
TZOFFSETTO:+0100
TZNAME:CET
DTSTART:20271031T010000
END:STANDARD
END:VTIMEZONE
BEGIN:VEVENT
DTSTART;TZID=Europe/Paris:20260419T090000
DTEND;TZID=Europe/Paris:20260419T130000
DTSTAMP:20260420T083358
CREATED:20260413T080129Z
LAST-MODIFIED:20260413T080129Z
UID:17722-1776589200-1776603600@www.bagesturisme.cat
SUMMARY:[:ca]13a Trobada de vehicles clàssics[:]
DESCRIPTION:Vine a gaudir de la 13a trobada de vehicles clàssics de Sant Feliu Sasserra \nLloc: zona esportiva \nHoraris: \n\n8:30h – 9:30h: Verificacions\n8:30h – 10:30h: Esmorzar\n10:45h: Briefing\n11:00h  Sortida\n12:15h: Aperitiu i entrega de premis\n\nRuta llarga 60km \nPreu: 12€ \n*Servei de bar i esmorzar \n*Imprescindible documentació del vehicle en regla \n*Trobada no competitiva \nPreinscripcions: sasserraclassics@gmail.com / 609 812 021 / 638 564 363 – Places limitades\, a 250 vehicles
URL:https://www.bagesturisme.cat/agenda/13a-trobada-de-vehicles-classics/
LOCATION:Zona esportiva Sant Feliu Sasserra
CATEGORIES:Fires i Festes
ATTACH;FMTTYPE=image/jpeg:https://www.bagesturisme.cat/wp-content/uploads/2026/04/trobada_classics-1.jpeg
END:VEVENT
END:VCALENDAR