BEGIN:VCALENDAR
VERSION:2.0
PRODID:-//Bages Turisme - ECPv6.15.17.1//NONSGML v1.0//EN
CALSCALE:GREGORIAN
METHOD:PUBLISH
X-ORIGINAL-URL:https://www.bagesturisme.cat/fr
X-WR-CALDESC:Évènements pour Bages Turisme
REFRESH-INTERVAL;VALUE=DURATION:PT1H
X-Robots-Tag:noindex
X-PUBLISHED-TTL:PT1H
BEGIN:VTIMEZONE
TZID:Europe/Paris
BEGIN:DAYLIGHT
TZOFFSETFROM:+0100
TZOFFSETTO:+0200
TZNAME:CEST
DTSTART:20250330T010000
END:DAYLIGHT
BEGIN:STANDARD
TZOFFSETFROM:+0200
TZOFFSETTO:+0100
TZNAME:CET
DTSTART:20251026T010000
END:STANDARD
BEGIN:DAYLIGHT
TZOFFSETFROM:+0100
TZOFFSETTO:+0200
TZNAME:CEST
DTSTART:20260329T010000
END:DAYLIGHT
BEGIN:STANDARD
TZOFFSETFROM:+0200
TZOFFSETTO:+0100
TZNAME:CET
DTSTART:20261025T010000
END:STANDARD
BEGIN:DAYLIGHT
TZOFFSETFROM:+0100
TZOFFSETTO:+0200
TZNAME:CEST
DTSTART:20270328T010000
END:DAYLIGHT
BEGIN:STANDARD
TZOFFSETFROM:+0200
TZOFFSETTO:+0100
TZNAME:CET
DTSTART:20271031T010000
END:STANDARD
END:VTIMEZONE
BEGIN:VEVENT
DTSTART;TZID=Europe/Paris:20260311T110000
DTEND;TZID=Europe/Paris:20260314T130000
DTSTAMP:20260420T103022
CREATED:20260309T122709Z
LAST-MODIFIED:20260309T122709Z
UID:17643-1773226800-1773493200@www.bagesturisme.cat
SUMMARY:[:ca]Manresa Cor de Catalunya[:]
DESCRIPTION:Désolé\, cet article est seulement disponible en Català.
URL:https://www.bagesturisme.cat/fr/agenda/manresa-cor-de-catalunya/
LOCATION:Oficina de Turisme de Manresa\, Oficina de Turisme de Manresa\, Plaça Major\, 20\, Manresa\, Barcelona\, 08241\, Spain
CATEGORIES:Visites
ATTACH;FMTTYPE=image/jpeg:https://www.bagesturisme.cat/wp-content/uploads/2026/03/inici_cor.jpg
ORGANIZER;CN="Manresa Turisme":MAILTO:turisme@manresaturisme.cat
END:VEVENT
END:VCALENDAR